BEGIN:VCALENDAR
VERSION:2.0
PRODID:-//Downtown Jonesboro Alliance - ECPv6.15.20//NONSGML v1.0//EN
CALSCALE:GREGORIAN
METHOD:PUBLISH
X-WR-CALNAME:Downtown Jonesboro Alliance
X-ORIGINAL-URL:https://downtownjonesboro.com
X-WR-CALDESC:Events for Downtown Jonesboro Alliance
REFRESH-INTERVAL;VALUE=DURATION:PT1H
X-Robots-Tag:noindex
X-PUBLISHED-TTL:PT1H
BEGIN:VTIMEZONE
TZID:America/Chicago
BEGIN:DAYLIGHT
TZOFFSETFROM:-0600
TZOFFSETTO:-0500
TZNAME:CDT
DTSTART:20240310T080000
END:DAYLIGHT
BEGIN:STANDARD
TZOFFSETFROM:-0500
TZOFFSETTO:-0600
TZNAME:CST
DTSTART:20241103T070000
END:STANDARD
BEGIN:DAYLIGHT
TZOFFSETFROM:-0600
TZOFFSETTO:-0500
TZNAME:CDT
DTSTART:20250309T080000
END:DAYLIGHT
BEGIN:STANDARD
TZOFFSETFROM:-0500
TZOFFSETTO:-0600
TZNAME:CST
DTSTART:20251102T070000
END:STANDARD
BEGIN:DAYLIGHT
TZOFFSETFROM:-0600
TZOFFSETTO:-0500
TZNAME:CDT
DTSTART:20260308T080000
END:DAYLIGHT
BEGIN:STANDARD
TZOFFSETFROM:-0500
TZOFFSETTO:-0600
TZNAME:CST
DTSTART:20261101T070000
END:STANDARD
END:VTIMEZONE
BEGIN:VEVENT
DTSTART;VALUE=DATE:20251206
DTEND;VALUE=DATE:20251207
DTSTAMP:20260424T063208
CREATED:20250306T213853Z
LAST-MODIFIED:20250923T141932Z
UID:265-1764979200-1765065599@downtownjonesboro.com
SUMMARY:2025 Downtown JoyFest
DESCRIPTION:The Downtown Jonesboro JoyFest is an annual event held in Downtown Jonesboro. The event includes a Christmas Tree lighting\, live performances\, activities\, and more.
URL:https://downtownjonesboro.com/event/2024-downtown-joyfest/
ATTACH;FMTTYPE=image/webp:https://downtownjonesboro.com/wp-content/uploads/2024/10/376057_66db3016529e420891ea6713254e382cmv2.webp
END:VEVENT
END:VCALENDAR