BEGIN:VCALENDAR
VERSION:2.0
PRODID:-//Downtown Jonesboro Alliance - ECPv6.15.20//NONSGML v1.0//EN
CALSCALE:GREGORIAN
METHOD:PUBLISH
X-WR-CALNAME:Downtown Jonesboro Alliance
X-ORIGINAL-URL:https://downtownjonesboro.com
X-WR-CALDESC:Events for Downtown Jonesboro Alliance
REFRESH-INTERVAL;VALUE=DURATION:PT1H
X-Robots-Tag:noindex
X-PUBLISHED-TTL:PT1H
BEGIN:VTIMEZONE
TZID:America/Chicago
BEGIN:DAYLIGHT
TZOFFSETFROM:-0600
TZOFFSETTO:-0500
TZNAME:CDT
DTSTART:20240310T080000
END:DAYLIGHT
BEGIN:STANDARD
TZOFFSETFROM:-0500
TZOFFSETTO:-0600
TZNAME:CST
DTSTART:20241103T070000
END:STANDARD
BEGIN:DAYLIGHT
TZOFFSETFROM:-0600
TZOFFSETTO:-0500
TZNAME:CDT
DTSTART:20250309T080000
END:DAYLIGHT
BEGIN:STANDARD
TZOFFSETFROM:-0500
TZOFFSETTO:-0600
TZNAME:CST
DTSTART:20251102T070000
END:STANDARD
BEGIN:DAYLIGHT
TZOFFSETFROM:-0600
TZOFFSETTO:-0500
TZNAME:CDT
DTSTART:20260308T080000
END:DAYLIGHT
BEGIN:STANDARD
TZOFFSETFROM:-0500
TZOFFSETTO:-0600
TZNAME:CST
DTSTART:20261101T070000
END:STANDARD
END:VTIMEZONE
BEGIN:VEVENT
DTSTART;VALUE=DATE:20250926
DTEND;VALUE=DATE:20250928
DTSTAMP:20260422T093151
CREATED:20250304T155615Z
LAST-MODIFIED:20250304T203332Z
UID:541-1758844800-1759017599@downtownjonesboro.com
SUMMARY:Downtown Jonesboro BBQ Fest
DESCRIPTION:
URL:https://downtownjonesboro.com/event/downtown-jonesboro-bbq-fest/
ATTACH;FMTTYPE=image/webp:https://downtownjonesboro.com/wp-content/uploads/2024/10/376057_546d246e94d2487198f1548c9c1a08cemv2.webp
END:VEVENT
END:VCALENDAR